BEGIN:VCALENDAR
VERSION:2.0
PRODID:-//cig-o - ECPv6.15.11//NONSGML v1.0//EN
CALSCALE:GREGORIAN
METHOD:PUBLISH
X-WR-CALNAME:cig-o
X-ORIGINAL-URL:https://cig-o.it
X-WR-CALDESC:Eventi per cig-o
REFRESH-INTERVAL;VALUE=DURATION:PT1H
X-Robots-Tag:noindex
X-PUBLISHED-TTL:PT1H
BEGIN:VTIMEZONE
TZID:UTC
BEGIN:STANDARD
TZOFFSETFROM:+0000
TZOFFSETTO:+0000
TZNAME:UTC
DTSTART:20260101T000000
END:STANDARD
END:VTIMEZONE
BEGIN:VEVENT
DTSTART;TZID=UTC:20270909T180000
DTEND;TZID=UTC:20270910T203000
DTSTAMP:20260423T121750
CREATED:20200407T064017Z
LAST-MODIFIED:20250912T074823Z
UID:406-1820512800-1820608200@cig-o.it
SUMMARY:CIG-O International Climate & Cigarette Waste Conference 2027
DESCRIPTION:Il più ambizioso degli eventi CIG-O sarà l’International Climate & Cigarette Waste Conference\, in programma a Bruxelles nel 2027. Con ospiti internazionali\, rappresentanti di governi\, istituzioni europee e organizzazioni non governative\, l’evento metterà in luce il legame tra cambiamenti climatici e rifiuti da fumo. \nL’obiettivo è sviluppare una strategia comune per ridurre l’impatto ambientale dei mozziconi a livello globale\, includendo normative più stringenti\, campagne di sensibilizzazione transnazionali e investimenti in innovazioni per il riciclo. \nCon tavole rotonde\, panel scientifici e un’area espositiva internazionale\, la conferenza sarà la prova concreta che anche un piccolo rifiuto come il mozzicone può diventare un tema centrale nelle politiche ambientali globali.
URL:https://cig-o.it/event/cig-o-international-climate-cigarette-waste-conference-2027/
LOCATION:City Hall\, 448 avenue\, New York\, NY\, United States
ATTACH;FMTTYPE=image/jpeg:https://cig-o.it/wp-content/uploads/2022/01/high-angle-view-cigarette-container-scaled.jpg
ORGANIZER;CN="Education Centre":MAILTO:mirajohnson@gmail.com
END:VEVENT
END:VCALENDAR