BEGIN:VCALENDAR
VERSION:2.0
PRODID:-//cig-o - ECPv6.15.11//NONSGML v1.0//EN
CALSCALE:GREGORIAN
METHOD:PUBLISH
X-ORIGINAL-URL:https://cig-o.it
X-WR-CALDESC:Eventi per cig-o
REFRESH-INTERVAL;VALUE=DURATION:PT1H
X-Robots-Tag:noindex
X-PUBLISHED-TTL:PT1H
BEGIN:VTIMEZONE
TZID:UTC
BEGIN:STANDARD
TZOFFSETFROM:+0000
TZOFFSETTO:+0000
TZNAME:UTC
DTSTART:20270101T000000
END:STANDARD
END:VTIMEZONE
BEGIN:VEVENT
DTSTART;TZID=UTC:20281011T180000
DTEND;TZID=UTC:20281011T203000
DTSTAMP:20260423T202950
CREATED:20200407T064929Z
LAST-MODIFIED:20250911T141130Z
UID:419-1854900000-1854909000@cig-o.it
SUMMARY:CIG-O Recycling Innovation Summit 2028
DESCRIPTION:Il Recycling Innovation Summit organizzato da CIG-O a Roma sarà il punto d’incontro per tutti coloro che credono nel potenziale del riciclo dei mozziconi di sigaretta come risorsa per l’economia circolare. Scienziati\, aziende green\, laboratori di ricerca e startup presenteranno nuove tecnologie per trasformare i filtri delle sigarette in prodotti riutilizzabili. \nTra le soluzioni che verranno presentate: la produzione di plastica rigida riciclata da impiegare nell’arredo urbano\, l’uso dei mozziconi come isolante termico e acustico in edilizia\, e progetti di trasformazione in materiali da costruzione innovativi. \nQuesto summit sarà anche un’occasione di networking per imprese e istituzioni che vogliono investire in nuove filiere di riciclo\, dimostrando come un rifiuto tossico possa diventare un’opportunità economica e ambientale.
URL:https://cig-o.it/event/cig-o-recycling-innovation-summit-2028/
LOCATION:City Hall\, 448 avenue\, New York\, NY\, United States
ATTACH;FMTTYPE=image/jpeg:https://cig-o.it/wp-content/uploads/2022/01/front-view-cigarette-bad-habit-concept-scaled.jpg
ORGANIZER;CN="Education Centre":MAILTO:mirajohnson@gmail.com
END:VEVENT
END:VCALENDAR