BEGIN:VCALENDAR
VERSION:2.0
PRODID:-//cig-o - ECPv6.15.11//NONSGML v1.0//EN
CALSCALE:GREGORIAN
METHOD:PUBLISH
X-WR-CALNAME:cig-o
X-ORIGINAL-URL:https://cig-o.it
X-WR-CALDESC:Eventi per cig-o
REFRESH-INTERVAL;VALUE=DURATION:PT1H
X-Robots-Tag:noindex
X-PUBLISHED-TTL:PT1H
BEGIN:VTIMEZONE
TZID:UTC
BEGIN:STANDARD
TZOFFSETFROM:+0000
TZOFFSETTO:+0000
TZNAME:UTC
DTSTART:20260101T000000
END:STANDARD
END:VTIMEZONE
BEGIN:VEVENT
DTSTART;TZID=UTC:20270710T080000
DTEND;TZID=UTC:20270710T170000
DTSTAMP:20260423T110754
CREATED:20200407T064803Z
LAST-MODIFIED:20250911T141212Z
UID:416-1815206400-1815238800@cig-o.it
SUMMARY:CIG-O Youth for Change Conference 2027
DESCRIPTION:Con la Youth for Change Conference\, CIG-O punta a coinvolgere le nuove generazioni nella lotta contro l’inquinamento causato dai mozziconi. Napoli diventerà un laboratorio di idee\, workshop e attività pratiche in cui studenti\, associazioni giovanili e volontari potranno confrontarsi sulle azioni concrete da portare avanti nelle scuole e nelle comunità locali. \nL’evento includerà laboratori creativi di upcycling\, attività educative di scienza ambientale per ragazzi\, e incontri con influencer e attivisti che hanno fatto della sensibilizzazione ecologica la loro missione. \nL’obiettivo è quello di trasmettere un messaggio forte: i giovani non sono solo spettatori\, ma i veri protagonisti della transizione ecologica.
URL:https://cig-o.it/event/cig-o-youth-for-change-conference-2027/
LOCATION:City Hall\, 448 avenue\, New York\, NY\, United States
ATTACH;FMTTYPE=image/jpeg:https://cig-o.it/wp-content/uploads/2020/04/image-copyright-121.jpg
ORGANIZER;CN="Education Centre":MAILTO:mirajohnson@gmail.com
END:VEVENT
END:VCALENDAR