BEGIN:VCALENDAR
VERSION:2.0
PRODID:-//cig-o - ECPv6.15.11//NONSGML v1.0//EN
CALSCALE:GREGORIAN
METHOD:PUBLISH
X-WR-CALNAME:cig-o
X-ORIGINAL-URL:https://cig-o.it
X-WR-CALDESC:Eventi per cig-o
REFRESH-INTERVAL;VALUE=DURATION:PT1H
X-Robots-Tag:noindex
X-PUBLISHED-TTL:PT1H
BEGIN:VTIMEZONE
TZID:UTC
BEGIN:STANDARD
TZOFFSETFROM:+0000
TZOFFSETTO:+0000
TZNAME:UTC
DTSTART:20250101T000000
END:STANDARD
END:VTIMEZONE
BEGIN:VEVENT
DTSTART;TZID=UTC:20260417T170000
DTEND;TZID=UTC:20260417T210000
DTSTAMP:20260423T004207
CREATED:20200407T064310Z
LAST-MODIFIED:20250911T141253Z
UID:409-1776445200-1776459600@cig-o.it
SUMMARY:CIG-O Ocean Protection Meeting 2026
DESCRIPTION:Il CIG-O Ocean Protection Meeting avrà come focus principale la connessione tra mozziconi di sigaretta e inquinamento marino. A Genova\, città simbolo del mare e della navigazione\, scienziati\, ONG\, biologi marini e amministrazioni locali discuteranno strategie per limitare l’impatto dei mozziconi sulle coste e sugli ecosistemi marini. \nVerranno presentati dati aggiornati sul ruolo dei mozziconi come principale rifiuto rinvenuto nelle spiagge\, nonché progetti pilota di raccolta differenziata nei porti e nelle località balneari. Non mancheranno sessioni dedicate alla sensibilizzazione dei turisti e alla promozione del turismo sostenibile. \nL’evento lancerà anche la campagna internazionale “Beaches Without Butts”\, con l’obiettivo di coinvolgere cittadini\, bagnini e operatori balneari in una grande mobilitazione collettiva.
URL:https://cig-o.it/event/cig-o-ocean-protection-meeting-2026/
LOCATION:City Hall\, 448 avenue\, New York\, NY\, United States
ATTACH;FMTTYPE=image/jpeg:https://cig-o.it/wp-content/uploads/2020/04/image-copyright-11.jpg
ORGANIZER;CN="Education Centre":MAILTO:mirajohnson@gmail.com
END:VEVENT
END:VCALENDAR